BEGIN:VCALENDAR
VERSION:2.0
PRODID:https://www.comasitaly.com
X-PUBLISHED-TTL:P1W
BEGIN:VEVENT
UID:69eb30a432441
DTSTART;VALUE=DATE:20250918
SEQUENCE:0
TRANSP:OPAQUE
DTEND;VALUE=DATE:20250921
URL:https://www.comasitaly.com/en/exhibitions/be-part-of-processing-innovat
 ion-at-intersupply-2025-with-comas
LOCATION:Dortmund\, Germany
SUMMARY:Be Part of Processing Innovation at Intersupply 2025 with Comas
CLASS:PUBLIC
X-ALT-DESC;FMTTYPE=text/html:<p>Visit us at <strong>Intersupply\, from 18 t
 o 20 September 2025</strong> and explore our latest solutions across the f
 ull spectrum of tobacco processing — from conventional to modern oral an
 d HnB products.<br>Along with G.D\, Cerulean\, Molins\, and Sasib\, we wil
 l present our complete portfolio tailored to reflect the industry’s evol
 ution\, combining performance excellence\, premium quality\, and breakthro
 ugh technologies.<br><br>Take the chance to connect with our team and disc
 over how our high-performance capabilities can drive your future projects 
 forward.</p><p><strong>Meet us:</strong><br>InterSupply\, 18-20 September 
 2025<br>Messe Dortmund GmbH\, Strobelallee 45\, 44139 Dortmund\, Germany&n
 bsp\;<br><strong>Hall 3\, Booth C16</strong><br>&nbsp\;</p>\, coesia_edito
 r_manager
X-MICROSOFT-CDO-ALLDAYEVENT:TRUE
DTSTAMP:20260424T105812Z
END:VEVENT
END:VCALENDAR